BEGIN:VCALENDAR
VERSION:2.0
PRODID:-//ChamberMaster//Event Calendar 2.0//EN
METHOD:PUBLISH
X-PUBLISHED-TTL:P3D
REFRESH-INTERVAL:P3D
CALSCALE:GREGORIAN
BEGIN:VEVENT
DTSTART:20190824T140000Z
DTEND:20190824T160000Z
X-MICROSOFT-CDO-ALLDAYEVENT:FALSE
SUMMARY:Archery at Estero Llano Grande State Park
DESCRIPTION:We're providing all equipment\, an Eagle Scout archery range\, and rangers to teach archery! RESERVATIONS REQUIRED. We provide bows and arrows (please DON'T bring your own equipment)\, a range\, and teaching rangers\, so just bring yourself and your friends! Meet on the deck outside the Visitor Center Park Store. The program is FREE but park admission is required (adults $5\, children 12-and-under free). RESERVATIONS REQUIRED Must be 8 years of age or older to participate.
X-ALT-DESC;FMTTYPE=text/html:<span style="font-size:14px\;"><span style="font-family: Helvetica\, Arial\, sans-serif\; white-space: pre-wrap\;">We&#39\;re providing all equipment\, an Eagle Scout archery range\, and rangers to teach archery! RESERVATIONS REQUIRED. We provide bows and arrows (please DON&#39\;T bring your own equipment)\, a range\, and teaching rangers\, so just bring yourself and your friends! Meet on the deck outside the Visitor Center Park Store. The program is FREE but park admission is required (adults $5\, children 12-and-under free). RESERVATIONS REQUIRED Must be 8 years of age or older to participate.</span></span>
LOCATION:Estero Llano Grande State Park 3301 S. International Blvd.
UID:e.1244.18422
SEQUENCE:3
DTSTAMP:20260420T062433Z
URL:https://business.weslaco.com/events/details/archery-at-estero-llano-grande-state-park-08-24-2019-18422
END:VEVENT

END:VCALENDAR
