BEGIN:VCALENDAR
VERSION:2.0
PRODID:-//ChamberMaster//Event Calendar 2.0//EN
METHOD:PUBLISH
X-PUBLISHED-TTL:P3D
REFRESH-INTERVAL:P3D
CALSCALE:GREGORIAN
BEGIN:VEVENT
DTSTART:20180721T140000Z
DTEND:20180721T160000Z
X-MICROSOFT-CDO-ALLDAYEVENT:FALSE
SUMMARY:Archery at Estero Llano Grande State Park
DESCRIPTION:Ages 8 to adult
X-ALT-DESC;FMTTYPE=text/html:Ages 8 to adult&nbsp\;&nbsp\;&nbsp\;&nbsp\;
LOCATION:Estero Llano Grande State Park 3301 S. International Blvd.
UID:e.1244.16933
SEQUENCE:3
DTSTAMP:20260421T041619Z
URL:https://business.weslaco.com/events/details/archery-at-estero-llano-grande-state-park-16933
END:VEVENT

END:VCALENDAR
