BEGIN:VCALENDAR
VERSION:2.0
PRODID:-//ChamberMaster//Event Calendar 2.0//EN
METHOD:PUBLISH
X-PUBLISHED-TTL:P3D
REFRESH-INTERVAL:P3D
CALSCALE:GREGORIAN
BEGIN:VEVENT
DTSTART:20200715T170000Z
DTEND:20200715T190000Z
X-MICROSOFT-CDO-ALLDAYEVENT:FALSE
SUMMARY:Aurora House Administrative Professional's Day Fundraiser
DESCRIPTION:Aurora House Foundation's much beloved Administrative Professionals' Day Luncheon was postponed due to the challenges caused by COVID-19. The world has changed\, yet\, Aurora House must continue to serve families in need. The show must go on\, and though it won't be the same\, we are announcing that we WILL celebrate together\, at a distance\, at a Facebook Live Party with a live raffle of nice prizes. \n\n\n\nWe need your monetary support. Aurora House is filling a vital need in our community\, as already financially insecure families are getting back to work. More than ever\, many are struggling with who keeps their job and who stays home to care for their terminally ill loved ones. \n\n\n\nHelp us help those in urgent need\, by continuing your Legacy of Support\, in honor of your hardworking professional staff. The "Live Party" will be held on Aurora House Facebook page\, Wednesday\, July 15th at noon. \n\n\n\nSponsors will be recognized\, and we will literally give away as many auction prizes to your honored ticket holders\, as we can collect! We would love to receive group pictures of your hard-working staff during this time. Photos will be used for media recognition this year\, and at next year's luncheon. Amidst the current economic uncertainty\, giving at the local level has never been so critically needed. \n\n\n\nThank you for your consideration and continued support\, until we gather again. \n\nPlease call us at (956) 973-9690 or email Mari@aurorahouse.org for more information\, or with your commitment and photos.
X-ALT-DESC;FMTTYPE=text/html:<span style="color: rgb(29\, 33\, 41)\; font-family: Helvetica\, Arial\, sans-serif\; font-size: 14px\; white-space: pre-wrap\;">Aurora House Foundation&#39\;s much beloved Administrative Professionals&#39\; Day Luncheon was postponed due to the challenges caused by COVID-19. The world has changed\, yet\, Aurora House must continue to serve families in need. The show must go on\, and though it won&#39\;t be the same\, we are announcing that we WILL celebrate together\, at a distance\, at a Facebook Live Party with a live raffle of nice prizes. </span><br style="color: rgb(29\, 33\, 41)\; font-family: Helvetica\, Arial\, sans-serif\; font-size: 14px\; white-space: pre-wrap\;" />\n<br style="color: rgb(29\, 33\, 41)\; font-family: Helvetica\, Arial\, sans-serif\; font-size: 14px\; white-space: pre-wrap\;" />\n<span style="color: rgb(29\, 33\, 41)\; font-family: Helvetica\, Arial\, sans-serif\; font-size: 14px\; white-space: pre-wrap\;">We need your monetary support. Aurora House is filling a vital need in our community\, as already financially insecure families are getting back to work. More than ever\, many are struggling with who keeps their job and who stays home to care for their terminally ill loved ones. </span><br style="color: rgb(29\, 33\, 41)\; font-family: Helvetica\, Arial\, sans-serif\; font-size: 14px\; white-space: pre-wrap\;" />\n<br style="color: rgb(29\, 33\, 41)\; font-family: Helvetica\, Arial\, sans-serif\; font-size: 14px\; white-space: pre-wrap\;" />\n<span style="color: rgb(29\, 33\, 41)\; font-family: Helvetica\, Arial\, sans-serif\; font-size: 14px\; white-space: pre-wrap\;">Help us help those in urgent need\, by continuing your Legacy of Support\, in honor of your hardworking professional staff. The &quot\;Live Party&quot\; will be held on Aurora House Facebook page\, Wednesday\, July 15th at noon. </span><br style="color: rgb(29\, 33\, 41)\; font-family: Helvetica\, Arial\, sans-serif\; font-size: 14px\; white-space: pre-wrap\;" />\n<br style="color: rgb(29\, 33\, 41)\; font-family: Helvetica\, Arial\, sans-serif\; font-size: 14px\; white-space: pre-wrap\;" />\n<span style="color: rgb(29\, 33\, 41)\; font-family: Helvetica\, Arial\, sans-serif\; font-size: 14px\; white-space: pre-wrap\;">Sponsors will be recognized\, and we will literally give away as many auction prizes to your honored ticket holders\, as we can collect! We would love to receive group pictures of your hard-working staff during this time. Photos will be used for media recognition this year\, and at next year&#39\;s luncheon. Amidst the current economic uncertainty\, giving at the local level has never been so critically needed. </span><br style="color: rgb(29\, 33\, 41)\; font-family: Helvetica\, Arial\, sans-serif\; font-size: 14px\; white-space: pre-wrap\;" />\n<br style="color: rgb(29\, 33\, 41)\; font-family: Helvetica\, Arial\, sans-serif\; font-size: 14px\; white-space: pre-wrap\;" />\n<span style="color: rgb(29\, 33\, 41)\; font-family: Helvetica\, Arial\, sans-serif\; font-size: 14px\; white-space: pre-wrap\;">Thank you for your consideration and continued support\, until we gather again. </span><br style="color: rgb(29\, 33\, 41)\; font-family: Helvetica\, Arial\, sans-serif\; font-size: 14px\; white-space: pre-wrap\;" />\n<span style="color: rgb(29\, 33\, 41)\; font-family: Helvetica\, Arial\, sans-serif\; font-size: 14px\; white-space: pre-wrap\;">Please call us at (956) 973-9690 or email Mari@aurorahouse.org for more information\, or with your commitment and photos.</span>
LOCATION:
UID:e.1244.19475
SEQUENCE:3
DTSTAMP:20260419T142235Z
URL:https://business.weslaco.com/events/details/aurora-house-administrative-professional-s-day-fundraiser-19475
END:VEVENT

END:VCALENDAR
