BEGIN:VCALENDAR
VERSION:2.0
PRODID:-//ChamberMaster//Event Calendar 2.0//EN
METHOD:PUBLISH
X-PUBLISHED-TTL:P3D
REFRESH-INTERVAL:P3D
CALSCALE:GREGORIAN
BEGIN:VEVENT
DTSTART:20150422T163000Z
DTEND:20150422T183000Z
X-MICROSOFT-CDO-ALLDAYEVENT:FALSE
SUMMARY:Aurora House Administrative Professionals' Day Luncheon
DESCRIPTION:Aurora House Foundation Lunch & Style Show at Tiffany's
X-ALT-DESC;FMTTYPE=text/html:Aurora House Foundation Lunch &amp\; Style Show at Tiffany&#39\;s
LOCATION:Knapp Medical Conference Center
UID:e.1244.6267
SEQUENCE:3
DTSTAMP:20260423T193736Z
URL:https://business.weslaco.com/events/details/aurora-house-administrative-professionals-day-luncheon-04-22-2015-6267
END:VEVENT

END:VCALENDAR
