BEGIN:VCALENDAR
VERSION:2.0
PRODID:-//ChamberMaster//Event Calendar 2.0//EN
METHOD:PUBLISH
X-PUBLISHED-TTL:P3D
REFRESH-INTERVAL:P3D
CALSCALE:GREGORIAN
BEGIN:VEVENT
DTSTART:20160427T163000Z
DTEND:20160427T183000Z
X-MICROSOFT-CDO-ALLDAYEVENT:FALSE
SUMMARY:Aurora House Administrative Professionals' Day Luncheon
DESCRIPTION:Aurora House Foundation Lunch & Style Show - Kentucky Derby: Run For the Roses
X-ALT-DESC;FMTTYPE=text/html:Aurora House Foundation Lunch &amp\; Style Show - Kentucky Derby: Run For the Roses
LOCATION:Knapp Medical Conference Center
UID:e.1244.10942
SEQUENCE:3
DTSTAMP:20260423T005654Z
URL:https://business.weslaco.com/events/details/aurora-house-administrative-professionals-day-luncheon-04-27-2016-10942
END:VEVENT

END:VCALENDAR
