BEGIN:VCALENDAR
VERSION:2.0
PRODID:-//ChamberMaster//Event Calendar 2.0//EN
METHOD:PUBLISH
X-PUBLISHED-TTL:P3D
REFRESH-INTERVAL:P3D
CALSCALE:GREGORIAN
BEGIN:VEVENT
DTSTART:20170513T120000Z
DTEND:20170513T190000Z
X-MICROSOFT-CDO-ALLDAYEVENT:FALSE
SUMMARY:Aurora House Charity Golf Tournament
DESCRIPTION:This charity golf tournament will benefit terminally-ill hospice patients served by Aurora House in Weslaco\, as well as help raise funds for scholarships for local students.\n\n \n\nThe Rotary Club of Weslaco & Knapp Medical Center Charity Golf Tournament will be held at the Tierra Santa Golf Club in Weslaco\, kicking off with registration and breakfast at 7 a.m. on May 13\, with a shotgun start at 8 a.m.  \n\n \n\nThe 3-person scramble event will also include complimentary beverages\, lunch\, and raffles / door prizes.  A 2017 Mercedes Benz is being offered as a hole-in-one prize (courtesy of Cardenas Metroplex).  \n\n \n\nThe beneficiary of the golf tournament\, Aurora House\, is a licensed special-care facility which provides a residence with compassionate end-of-life care at no cost to patients. Located at 2646 W. 18th Street in Weslaco\, Aurora House is a unique place in the Mid-Valley that provides comfort\, love\, and support for residents with a life expectancy of less than three months.
X-ALT-DESC;FMTTYPE=text/html:<p><span style="color:#111111\;"><span style="font-family:arial\,sans-serif\;">This charity golf tournament will benefit terminally-ill hospice patients served by Aurora House in Weslaco\, as well as help raise funds for scholarships for local students.</span></span><br />\n&nbsp\;<br />\n<span style="color:#111111\;"><span style="font-family:arial\,sans-serif\;">The Rotary Club of Weslaco &amp\; Knapp Medical Center Charity Golf Tournament will be held at the Tierra Santa Golf Club in Weslaco\, kicking off with registration and breakfast at 7 a.m. on May 13\, with a shotgun start at 8 a.m. &nbsp\;</span></span><br />\n&nbsp\;<br />\n<span style="color:#111111\;"><span style="font-family:arial\,sans-serif\;">The 3-person scramble event will also include complimentary beverages\, lunch\, and raffles / door prizes.&nbsp\; A 2017 Mercedes Benz is being offered as a hole-in-one prize (courtesy of Cardenas Metroplex).&nbsp\; </span></span><br />\n&nbsp\;<br />\n<span style="color:#111111\;"><span style="font-family:arial\,sans-serif\;">The beneficiary of the golf tournament\, Aurora House\, is a licensed special-care facility which provides a residence with compassionate end-of-life care at no cost to patients. Located at 2646 W. 18th Street in Weslaco\, Aurora House is a unique place in the Mid-Valley that provides comfort\, love\, and support for residents with a life expectancy of less than three months.</span></span></p>\n
LOCATION:Tierra Santa Golf Course Weslaco
UID:e.1244.12034
SEQUENCE:3
DTSTAMP:20260422T051516Z
URL:https://business.weslaco.com/events/details/aurora-house-charity-golf-tournament-12034
END:VEVENT

END:VCALENDAR
