BEGIN:VCALENDAR
VERSION:2.0
PRODID:-//ChamberMaster//Event Calendar 2.0//EN
METHOD:PUBLISH
X-PUBLISHED-TTL:P3D
REFRESH-INTERVAL:P3D
CALSCALE:GREGORIAN
BEGIN:VEVENT
DTSTART:20161204T010000Z
DTEND:20161204T040000Z
X-MICROSOFT-CDO-ALLDAYEVENT:FALSE
SUMMARY:Aurora House Foundation Christmas Fundraiser
DESCRIPTION:Presented by Friends of the Aurora House. Sponsorships available.
X-ALT-DESC;FMTTYPE=text/html:Presented by Friends of the Aurora House. Sponsorships available.
LOCATION:Levine Residence 2006 Sahara Dr. Weslaco\, TX
UID:e.1244.11408
SEQUENCE:3
DTSTAMP:20260422T115055Z
URL:https://business.weslaco.com/events/details/aurora-house-foundation-christmas-fundraiser-11408
END:VEVENT

END:VCALENDAR
