BEGIN:VCALENDAR
VERSION:2.0
PRODID:-//ChamberMaster//Event Calendar 2.0//EN
METHOD:PUBLISH
X-PUBLISHED-TTL:P3D
REFRESH-INTERVAL:P3D
CALSCALE:GREGORIAN
BEGIN:VEVENT
DTSTART:20190609T000000Z
DTEND:20190609T020000Z
X-MICROSOFT-CDO-ALLDAYEVENT:FALSE
SUMMARY:Aurora House Glow in the Dark 5K
DESCRIPTION:The 2019 80's Retro Glow Run and Walkathon will take place on Saturday\, June 8\, 2019 at Mayor Pablo Pena Park\, located at 300 N Airport Dr in Weslaco. We will have a DJ\, Zumba\, a Snapix photo booth\, vendor booths\, and since the powder paint is glow-in-the-dark\, an after the race black light dance party! Wear your best 80's costume\, and come ready for a good time!\n\nAny questions\, or to sign up for the Walkathon\, email us at Walkathon@aurorahouse.org.\n\nAy questions on the 1-mile Kids Run or the 5K\, email us at Glow5K@aurorahouse.org
X-ALT-DESC;FMTTYPE=text/html:<span>The 2019 80&#39\;s Retro Glow Run and Walkathon will take place on Saturday\, June 8\, 2019 at Mayor Pablo Pena Park\, located at 300 N Airport Dr in Weslaco. We will have a DJ\, Zumba\, a Snapix photo booth\, vendor booths\, and since the powder paint is glow-in-the-dark\, an after the race black light dance party! Wear your best 80&#39\;s costume\, and come ready for a good time!<br />\nAny questions\, or to sign up for the Walkathon\, email us at Walkathon@aurorahouse.org.<br />\nAy questions on the 1-mile Kids Run or the 5K\, email us at Glow5K@aurorahouse.org </span>
LOCATION:
UID:e.1244.17078
SEQUENCE:3
DTSTAMP:20260420T094333Z
URL:https://business.weslaco.com/events/details/aurora-house-glow-in-the-dark-5k-17078
END:VEVENT

END:VCALENDAR
