BEGIN:VCALENDAR
VERSION:2.0
PRODID:-//ChamberMaster//Event Calendar 2.0//EN
METHOD:PUBLISH
X-PUBLISHED-TTL:P3D
REFRESH-INTERVAL:P3D
CALSCALE:GREGORIAN
BEGIN:VEVENT
DTSTART:20150130T233000Z
DTEND:20150131T003000Z
X-MICROSOFT-CDO-ALLDAYEVENT:FALSE
SUMMARY:Aurora House Ribbon Cutting Ceremony
DESCRIPTION:
X-ALT-DESC;FMTTYPE=text/html:
LOCATION:2646 W. 18th Weslaco\, TX
UID:e.1244.6032
SEQUENCE:3
DTSTAMP:20260424T002714Z
URL:https://business.weslaco.com/events/details/aurora-house-ribbon-cutting-ceremony-01-30-2015-6032
END:VEVENT

END:VCALENDAR
