BEGIN:VCALENDAR
VERSION:2.0
PRODID:-//ChamberMaster//Event Calendar 2.0//EN
METHOD:PUBLISH
X-PUBLISHED-TTL:P3D
REFRESH-INTERVAL:P3D
CALSCALE:GREGORIAN
BEGIN:VEVENT
DTSTART:20151205T200000Z
DTEND:20151205T220000Z
X-MICROSOFT-CDO-ALLDAYEVENT:FALSE
SUMMARY:Author Book Signing at Mayor Joe V. Sanchez Library
DESCRIPTION:Come meet author Iona Cordero and get an autographed copy of her new book "If You Only Knew".
X-ALT-DESC;FMTTYPE=text/html:Come meet author Iona Cordero and get an autographed copy of her new book &quot\;If You Only Knew&quot\;.
LOCATION:Braught Memorial Theater 525 S. Kansas
UID:e.1244.9062
SEQUENCE:3
DTSTAMP:20260423T065302Z
URL:https://business.weslaco.com/events/details/author-book-signing-at-mayor-joe-v-sanchez-library-12-05-2015-9062
END:VEVENT

END:VCALENDAR
