BEGIN:VCALENDAR
VERSION:2.0
PRODID:-//ChamberMaster//Event Calendar 2.0//EN
METHOD:PUBLISH
X-PUBLISHED-TTL:P3D
REFRESH-INTERVAL:P3D
CALSCALE:GREGORIAN
BEGIN:VEVENT
DTSTART:20190418T230000Z
DTEND:20190419T010000Z
X-MICROSOFT-CDO-ALLDAYEVENT:FALSE
SUMMARY:Author Signing at Mayor Joe V. Sanchez Public Library
DESCRIPTION:Please join the Storybook Garden and the library in welcoming authors Adam Gidwitz and UTRGV professor\, David Bowles for their book\, The Unicorn Rescue Society: The Chupacabras of the Rio Grande\, this Thursday\, April 18th at 6PM. The event is free\, for any concerns please contact The Storybook Garden at 956-968-7323.
X-ALT-DESC;FMTTYPE=text/html:<span style="color: rgb(29\, 33\, 41)\; font-family: Helvetica\, Arial\, sans-serif\; font-size: 14px\; white-space: pre-wrap\;">Please join the Storybook Garden and the library in welcoming authors Adam Gidwitz and UTRGV professor\, David Bowles for their book\, The Unicorn Rescue Society: The Chupacabras of the Rio Grande\, this Thursday\, April 18th at 6PM. The event is free\, for any concerns please contact The Storybook Garden at 956-968-7323.</span>
LOCATION:Mayor Joe V. Sanchez Public Library 525 S. Kansas Ave.
UID:e.1244.18129
SEQUENCE:3
DTSTAMP:20260420T131539Z
URL:https://business.weslaco.com/events/details/author-signing-at-mayor-joe-v-sanchez-public-library-18129
END:VEVENT

END:VCALENDAR
