BEGIN:VCALENDAR
VERSION:2.0
PRODID:-//ChamberMaster//Event Calendar 2.0//EN
METHOD:PUBLISH
X-PUBLISHED-TTL:P3D
REFRESH-INTERVAL:P3D
CALSCALE:GREGORIAN
BEGIN:VEVENT
DTSTART:20170923T190000Z
DTEND:20170923T210000Z
X-MICROSOFT-CDO-ALLDAYEVENT:FALSE
SUMMARY:Author Signing at Mayor Sanchez Public Library
DESCRIPTION:Please join us at Mayor Joe V. Sanchez Public Library for a special book signing event featuring local teen author Katelynn Renteria. The library is found at 525 S. Kansas\, here in Weslaco. A reception and refreshments will follow the presentation. For more information contact Mr. Mata at 956-968-4533
X-ALT-DESC;FMTTYPE=text/html:Please join us at Mayor Joe V. Sanchez Public Library for a special book signing event featuring local teen author Katelynn Renteria.&nbsp\;<span style="color:black\; font-family:calibri\,sans-serif\; font-size:12pt">The library is found at 525 S. Kansas\, here in Weslaco. A reception and refreshments will follow the presentation. For more information contact Mr. Mata at 956-968-4533</span>
LOCATION:Mayor Joe V. Sanchez Public Library 525 S. Kansas Ave. Weslaco\, TX 78596
UID:e.1244.14393
SEQUENCE:3
DTSTAMP:20260421T202442Z
URL:https://business.weslaco.com/events/details/author-signing-at-mayor-sanchez-public-library-14393
END:VEVENT

END:VCALENDAR
