BEGIN:VCALENDAR
VERSION:2.0
PRODID:-//ChamberMaster//Event Calendar 2.0//EN
METHOD:PUBLISH
X-PUBLISHED-TTL:P3D
REFRESH-INTERVAL:P3D
CALSCALE:GREGORIAN
BEGIN:VEVENT
DTSTART:20140426T150000Z
DTEND:20140426T190000Z
X-MICROSOFT-CDO-ALLDAYEVENT:FALSE
SUMMARY:Autism Awareness Community Event at Rancho El Charco
DESCRIPTION:Rancho El Charco is having its 1st Annual Autism Community Event.  Enjoy a fun-filled\, stress free day for children and adults.  For information on how to participate\, call Selina at 585-5707.
X-ALT-DESC;FMTTYPE=text/html:Rancho El Charco is having its 1st Annual Autism Community Event. &nbsp\;Enjoy a fun-filled\, stress free day for children and adults. &nbsp\;For information on how to participate\, call Selina at 585-5707.&nbsp\;&nbsp\;&nbsp\;&nbsp\;
LOCATION:100 N. Kika de la Garza La Joya\, TX 78560
UID:e.1244.5889
SEQUENCE:3
DTSTAMP:20260424T161741Z
URL:https://business.weslaco.com/events/details/autism-awareness-community-event-at-rancho-el-charco-04-26-2014-5889
END:VEVENT

END:VCALENDAR
