BEGIN:VCALENDAR
VERSION:2.0
PRODID:-//ChamberMaster//Event Calendar 2.0//EN
METHOD:PUBLISH
X-PUBLISHED-TTL:P3D
REFRESH-INTERVAL:P3D
CALSCALE:GREGORIAN
BEGIN:VEVENT
DTSTART:20151122T010000Z
DTEND:20151122T040000Z
X-MICROSOFT-CDO-ALLDAYEVENT:FALSE
SUMMARY:Autumn Nights att Frontera Audubon
DESCRIPTION:Enjoy wine tasting and live music at Frontera Audubon's annual fall fundraiser.
X-ALT-DESC;FMTTYPE=text/html:Enjoy wine tasting and <span style="white-space: nowrap\;">live music&nbsp\;</span>at Frontera Audubon&#39\;s annual fall fundraiser. &nbsp\;
LOCATION:1101 S. Texas Weslaco\, TX
UID:e.1244.8754
SEQUENCE:3
DTSTAMP:20260423T084209Z
URL:https://business.weslaco.com/events/details/autumn-nights-att-frontera-audubon-11-21-2015-8754
END:VEVENT

END:VCALENDAR
