BEGIN:VCALENDAR
VERSION:2.0
PRODID:-//ChamberMaster//Event Calendar 2.0//EN
METHOD:PUBLISH
X-PUBLISHED-TTL:P3D
REFRESH-INTERVAL:P3D
CALSCALE:GREGORIAN
BEGIN:VEVENT
DTSTART:20141026T000000Z
DTEND:20141026T030000Z
X-MICROSOFT-CDO-ALLDAYEVENT:FALSE
SUMMARY:Autumn Nights Wine Tasting at Frontera Audubon
DESCRIPTION:Enjoy wine tasting and live music at Frontera Audubon's annual fall fundraiser.
X-ALT-DESC;FMTTYPE=text/html:Enjoy wine tasting and <span style="white-space: nowrap\;">live music&nbsp\;</span>at Frontera Audubon&#39\;s annual fall fundraiser. &nbsp\;
LOCATION:1101 S. Texas Weslaco\, TX
UID:e.1244.5959
SEQUENCE:3
DTSTAMP:20260424T051739Z
URL:https://business.weslaco.com/events/details/autumn-nights-wine-tasting-at-frontera-audubon-10-25-2014-5959
END:VEVENT

END:VCALENDAR
