BEGIN:VCALENDAR
VERSION:2.0
PRODID:-//ChamberMaster//Event Calendar 2.0//EN
METHOD:PUBLISH
X-PUBLISHED-TTL:P3D
REFRESH-INTERVAL:P3D
CALSCALE:GREGORIAN
BEGIN:VEVENT
DTSTART:20131124T010000Z
DTEND:20131124T040000Z
X-MICROSOFT-CDO-ALLDAYEVENT:FALSE
SUMMARY:Autumn on the Lawn
DESCRIPTION:Enjoy wine tasting and live music at Frontera Audubon's annual fall fundraiser.  This year's venue has changed due to inclement weather.  It will now be held inside the Visitors Center.
X-ALT-DESC;FMTTYPE=text/html:Enjoy wine tasting and <span style="white-space: nowrap\;">live music&nbsp\;</span>at Frontera Audubon&#39\;s annual fall fundraiser. &nbsp\;This year&#39\;s venue has changed due to inclement weather. &nbsp\;It will now be held inside the Visitors Center.
LOCATION:275 S. Kansas Weslaco\, TX
UID:e.1244.4802
SEQUENCE:3
DTSTAMP:20260425T005045Z
URL:https://business.weslaco.com/events/details/autumn-on-the-lawn-11-23-2013-4802
END:VEVENT

END:VCALENDAR
