BEGIN:VCALENDAR
VERSION:2.0
PRODID:-//ChamberMaster//Event Calendar 2.0//EN
METHOD:PUBLISH
X-PUBLISHED-TTL:P3D
REFRESH-INTERVAL:P3D
CALSCALE:GREGORIAN
BEGIN:VEVENT
DTSTART:20131008T130000Z
DTEND:20131008T150000Z
X-MICROSOFT-CDO-ALLDAYEVENT:FALSE
SUMMARY:Awesome Autumn Morning Walk at Valley Nature Center
DESCRIPTION:Enjoy sunshine\, crisp air\, birds\, calmness and a light breakfast!  $1 admission. Sponsored by Knapp Medical Center.
X-ALT-DESC;FMTTYPE=text/html:Enjoy sunshine\, crisp air\, birds\, calmness and a light breakfast! &nbsp\;$1 admission. Sponsored by Knapp Medical Center.
LOCATION:Valley Nature Center 301 S. Border Ave.
UID:e.1244.4764
SEQUENCE:3
DTSTAMP:20260425T023712Z
URL:https://business.weslaco.com/events/details/awesome-autumn-morning-walk-at-valley-nature-center-10-08-2013-4764
END:VEVENT

END:VCALENDAR
