BEGIN:VCALENDAR
VERSION:2.0
PRODID:-//ChamberMaster//Event Calendar 2.0//EN
METHOD:PUBLISH
X-PUBLISHED-TTL:P3D
REFRESH-INTERVAL:P3D
CALSCALE:GREGORIAN
BEGIN:VEVENT
DTSTART:20131008T170000Z
DTEND:20131008T170000Z
X-MICROSOFT-CDO-ALLDAYEVENT:FALSE
SUMMARY:Awesome Autumn Walk at the Valley Nature Center
DESCRIPTION:Come join us at the Valley Nature Center for our Awesome Autumn Morning Walk!! Enjoy sunshine\, crisp air\, birds\, calmness\, and a light breakfast\n\nAll for just $1.00\n\nOctober 8\, 2013 at 8:00 a.m.\n\nValley Nature center\n\n301 South Border Ave\n\nWeslaco Texas\, 78596\n\n(956) 969-2475\n\nSponsored by:\n\nKnapp Medical Center
X-ALT-DESC;FMTTYPE=text/html:Come join us at the Valley Nature Center for our Awesome Autumn Morning Walk!! Enjoy sunshine\, crisp air\, birds\, calmness\, and a light breakfast<br />\nAll for just $1.00<br />\nOctober 8\, 2013 at 8:00 a.m.<br />\nValley Nature center<br />\n301 South Border Ave<br />\nWeslaco Texas\, 78596<br />\n(956) 969-2475<br />\nSponsored by:<br />\nKnapp Medical Center
LOCATION:301 South Border Ave
UID:e.1244.4776
SEQUENCE:3
DTSTAMP:20260425T023701Z
URL:https://business.weslaco.com/events/details/awesome-autumn-walk-at-the-valley-nature-center-10-08-2013-4776
END:VEVENT

END:VCALENDAR
