BEGIN:VCALENDAR
VERSION:2.0
PRODID:-//ChamberMaster//Event Calendar 2.0//EN
METHOD:PUBLISH
X-PUBLISHED-TTL:P3D
REFRESH-INTERVAL:P3D
CALSCALE:GREGORIAN
BEGIN:VEVENT
DTSTART:20140904T140000Z
DTEND:20140904T160000Z
X-MICROSOFT-CDO-ALLDAYEVENT:FALSE
SUMMARY:Banking for Your Business Seminar
DESCRIPTION:Banking for Your Business: Money Skills For Life\n\nA seminar presented by the Women's Business Center.  Featured speaker is Joann Rose from Wells Fargo Bank.
X-ALT-DESC;FMTTYPE=text/html:<p>Banking for Your Business: Money Skills For Life</p>\n\n<p>A seminar presented by the Women&#39\;s Business Center. &nbsp\;Featured speaker is Joann Rose from Wells Fargo Bank.</p>\n
LOCATION:Business Visitor & Event Center 275 S. Kansas Weslaco\, TX\,
UID:e.1244.5940
SEQUENCE:3
DTSTAMP:20260424T082845Z
URL:https://business.weslaco.com/events/details/banking-for-your-business-seminar-09-04-2014-5940
END:VEVENT

END:VCALENDAR
