BEGIN:VCALENDAR
VERSION:2.0
PRODID:-//ChamberMaster//Event Calendar 2.0//EN
METHOD:PUBLISH
X-PUBLISHED-TTL:P3D
REFRESH-INTERVAL:P3D
CALSCALE:GREGORIAN
BEGIN:VEVENT
DTSTART:20180517T160000Z
DTEND:20180517T170000Z
X-MICROSOFT-CDO-ALLDAYEVENT:FALSE
SUMMARY:Bar B Cutie Grand Opening & Ribbon Cutting
DESCRIPTION:
X-ALT-DESC;FMTTYPE=text/html:
LOCATION:812 W. Interstate 2 Weslaco\, TX 78599
UID:e.1244.16887
SEQUENCE:3
DTSTAMP:20260421T075606Z
URL:https://business.weslaco.com/events/details/bar-b-cutie-grand-opening-ribbon-cutting-16887
END:VEVENT

END:VCALENDAR
