BEGIN:VCALENDAR
VERSION:2.0
PRODID:-//ChamberMaster//Event Calendar 2.0//EN
METHOD:PUBLISH
X-PUBLISHED-TTL:P3D
REFRESH-INTERVAL:P3D
CALSCALE:GREGORIAN
BEGIN:VEVENT
DTSTART:20170920T150000Z
DTEND:20170920T160000Z
X-MICROSOFT-CDO-ALLDAYEVENT:FALSE
SUMMARY:Bar-B-Cutie Groundbreaking Ceremony
DESCRIPTION:
X-ALT-DESC;FMTTYPE=text/html:
LOCATION:702 W. Expressway 83 Weslaco\, TX
UID:e.1244.14389
SEQUENCE:3
DTSTAMP:20260421T201647Z
URL:https://business.weslaco.com/events/details/bar-b-cutie-groundbreaking-ceremony-14389
END:VEVENT

END:VCALENDAR
