BEGIN:VCALENDAR
VERSION:2.0
PRODID:-//ChamberMaster//Event Calendar 2.0//EN
METHOD:PUBLISH
X-PUBLISHED-TTL:P3D
REFRESH-INTERVAL:P3D
CALSCALE:GREGORIAN
BEGIN:VEVENT
DTSTART:20200306T133000Z
DTEND:20200306T153000Z
X-MICROSOFT-CDO-ALLDAYEVENT:FALSE
SUMMARY:Barista & Breakfast at Frost Bank Weslaco
DESCRIPTION:Frost will celebrate the opening of its new Weslaco Financial Center with three days of events that introduce Frost's innovative design providing greater convenience and service to area customers.Guests can enjoy specialty coffees\, breakfast pastries and fruit *Free and open to the public
X-ALT-DESC;FMTTYPE=text/html:Frost will celebrate the opening of its new Weslaco Financial Center with three days of events that introduce Frost&rsquo\;s innovative design providing greater convenience and service to area customers.Guests can enjoy specialty coffees\, breakfast pastries and fruit *Free and open to the public
LOCATION:Weslaco Financial Center 1010 N. Westgate Drive Weslaco\, Texas 78596
UID:e.1244.19332
SEQUENCE:3
DTSTAMP:20260419T184651Z
URL:https://business.weslaco.com/events/details/barista-breakfast-at-frost-bank-weslaco-19332
END:VEVENT

END:VCALENDAR
