BEGIN:VCALENDAR
VERSION:2.0
PRODID:-//ChamberMaster//Event Calendar 2.0//EN
METHOD:PUBLISH
X-PUBLISHED-TTL:P3D
REFRESH-INTERVAL:P3D
CALSCALE:GREGORIAN
BEGIN:VEVENT
DTSTART:20161027T150000Z
DTEND:20161027T170000Z
X-MICROSOFT-CDO-ALLDAYEVENT:FALSE
SUMMARY:Basics of Franchising Seminar
DESCRIPTION:What is a franchise?\n\nA franchise is a legal and commercial relationship between the owner of a trademark\, service mark\, trade name\, or advertising symbol and an individual or group wishing to use that identification in a business.\n\n\n\nWorkshop Highlights\n\nAre you thinking about starting a business through franchising? Learn about:\n\n	Types of franchises\n	Key documents in franchise agreements\n	Advantages & disadvantages in franchising\n	Things to consider before deciding to franchise\n	Tips for evaluating a franchise\n	Helpful resources\n\n\n\nThis workshop is presented by the UTRGV Small Business Development Center (SBDC) in partnership with the Weslaco Chamber of Commerce & Weslaco Economic Development Corporation (EDC).
X-ALT-DESC;FMTTYPE=text/html:<strong>What is a franchise?</strong><br />\nA franchise is a legal and commercial relationship between the owner of a trademark\, service mark\, trade name\, or advertising symbol and an individual or group wishing to use that identification in a business.<br />\n<br />\n<strong>Workshop Highlights</strong><br />\nAre you thinking about starting a business through franchising? Learn about:\n<ul>\n	<li>Types of franchises</li>\n	<li>Key documents in franchise agreements</li>\n	<li>Advantages &amp\; disadvantages in franchising</li>\n	<li>Things to consider before deciding to franchise</li>\n	<li>Tips for evaluating a franchise</li>\n	<li>Helpful resources</li>\n</ul>\n<br />\nThis workshop is presented by the UTRGV Small Business Development Center&nbsp\;(SBDC) in partnership with the Weslaco Chamber of Commerce &amp\; Weslaco&nbsp\;Economic Development Corporation (EDC).
LOCATION:Weslaco Business Visitor & Event Center 275 S. Kansas
UID:e.1244.11051
SEQUENCE:3
DTSTAMP:20260422T151258Z
URL:https://business.weslaco.com/events/details/basics-of-franchising-seminar-11051
END:VEVENT

END:VCALENDAR
