BEGIN:VCALENDAR
VERSION:2.0
PRODID:-//ChamberMaster//Event Calendar 2.0//EN
METHOD:PUBLISH
X-PUBLISHED-TTL:P3D
REFRESH-INTERVAL:P3D
CALSCALE:GREGORIAN
BEGIN:VEVENT
DTSTART:20130309T160000Z
DTEND:20130309T200000Z
X-MICROSOFT-CDO-ALLDAYEVENT:FALSE
SUMMARY:BBB Shred Day
DESCRIPTION:National Consumer Protection Week  \n\n	\n\n	Free Shred Day Event\n\n	\n\n	\n\n	 \n\n	You Might be the Target of Fraud \n\n	But\n\n	 You Don't Have to be a Victim\n\n	 \n\n	Protect Yourself by dropping off documents at a FREE shredding event (limit 5 boxes per vehicle):\n  \n\n	When:     SATURDAY\, MARCH 9\n\n	Where:    Better Business Bureau\n\n	                       502 E. Expwy 83\, Ste C\n\n	                      Weslaco\, TX \n\n	  Time:    10 AM to 2 PM  \n\n	 \n\n	  CALL 956-969-1804 for info\n\n	\n\n	Sponsored by:\n\n	\n\n	Better Business Bureau\n\n	Valley Shredding Service\n\n	US Postal Inspection Service
X-ALT-DESC;FMTTYPE=text/html:<p style="text-align: center\; margin-top: 0pt\; unicode-bidi: embed\; direction: ltr\; margin-bottom: 0pt\; vertical-align: baseline\; language: en-us">\n	<font color="#000000" size="3"><span style="font-family: arial\; color: #333399\; font-size: 20pt\; font-weight: bold\; language: en-us\; mso-ascii-font-family: arial\; mso-fareast-font-family: +mn-ea\; mso-bidi-font-family: +mn-cs\; mso-font-kerning: 12.0pt\; mso-color-index: 5">National Consumer Protection Week<span style="mso-spacerun: yes">&nbsp\; </span></span></font></p>\n<p style="text-align: center\; margin-top: 0pt\; unicode-bidi: embed\; direction: ltr\; margin-bottom: 0pt\; vertical-align: baseline\; language: en-us">\n	<br />\n	<font color="#000000" size="3"><span style="font-family: arial\; color: #333399\; font-size: 24pt\; font-weight: bold\; language: en-us\; mso-ascii-font-family: arial\; mso-fareast-font-family: +mn-ea\; mso-bidi-font-family: +mn-cs\; mso-font-kerning: 12.0pt\; mso-color-index: 5">Free Shred Day Event</span></font><br />\n	<br />\n	<br />\n	&nbsp\;</p>\n<p style="text-align: center\; margin-top: 0pt\; unicode-bidi: embed\; direction: ltr\; margin-bottom: 0pt\; vertical-align: baseline\; language: en-us">\n	<font color="#000000" size="3"><span style="font-family: elephant\; color: black\; font-size: 24pt\; language: en-us\; mso-ascii-font-family: elephant\; mso-fareast-font-family: +mn-ea\; mso-bidi-font-family: +mn-cs\; mso-font-kerning: 12.0pt\; mso-color-index: 1">You Might be the Target of Fraud </span></font></p>\n<p style="text-align: center\; margin-top: 0pt\; unicode-bidi: embed\; direction: ltr\; margin-bottom: 0pt\; vertical-align: baseline\; language: en-us">\n	<font color="#000000" size="3"><span style="font-family: elephant\; color: black\; font-size: 24pt\; language: en-us\; mso-ascii-font-family: elephant\; mso-fareast-font-family: +mn-ea\; mso-bidi-font-family: +mn-cs\; mso-font-kerning: 12.0pt\; mso-color-index: 1">But</span></font></p>\n<p style="text-align: center\; margin-top: 0pt\; unicode-bidi: embed\; direction: ltr\; margin-bottom: 0pt\; vertical-align: baseline\; language: en-us">\n	<font color="#000000" size="3"><span style="font-family: elephant\; color: black\; font-size: 24pt\; language: en-us\; mso-ascii-font-family: elephant\; mso-fareast-font-family: +mn-ea\; mso-bidi-font-family: +mn-cs\; mso-font-kerning: 12.0pt\; mso-color-index: 1"><span style="mso-spacerun: yes">&nbsp\;</span>You Don&#39\;t Have to be a Victim</span></font></p>\n<p style="text-align: center\; margin-top: 0pt\; unicode-bidi: embed\; direction: ltr\; margin-bottom: 0pt\; vertical-align: baseline\; language: en-us">\n	&nbsp\;</p>\n<p style="text-align: center\; margin-top: 0pt\; unicode-bidi: embed\; direction: ltr\; margin-bottom: 0pt\; vertical-align: baseline\; language: en-us">\n	<font color="#000000" size="3"><span style="font-family: arial\; color: black\; font-size: 20pt\; font-weight: bold\; language: en-us\; mso-ascii-font-family: arial\; mso-fareast-font-family: +mn-ea\; mso-bidi-font-family: +mn-cs\; mso-font-kerning: 12.0pt\; mso-color-index: 1">Protect Yourself by dropping off documents at a FREE shredding event (limit 5 boxes per vehicle):</span></font></p>\n<span style="font-family: arial\; color: yellow\; font-size: 20pt\; font-weight: bold\; language: en-us\; mso-ascii-font-family: arial\; mso-fareast-font-family: +mn-ea\; mso-bidi-font-family: +mn-cs\; mso-font-kerning: 12.0pt">&nbsp\; </span>\n<p style="text-align: left\; margin-top: 0pt\; unicode-bidi: embed\; direction: ltr\; margin-bottom: 0pt\; vertical-align: baseline\; language: en-us">\n	<span style="font-family: arial\; color: yellow\; font-size: 20pt\; font-weight: bold\; language: en-us\; mso-ascii-font-family: arial\; mso-fareast-font-family: +mn-ea\; mso-bidi-font-family: +mn-cs\; mso-font-kerning: 12.0pt"><span style="font-style: italic\; font-family: arial\; color: black\; font-size: 23pt\; font-weight: bold\; language: en-us\; mso-ascii-font-family: arial\; mso-fareast-font-family: +mn-ea\; mso-bidi-font-family: +mn-cs\; mso-font-kerning: 12.0pt\; mso-color-index: 1"><span style="font-style: italic\; font-family: arial\; color: black\; font-size: 16pt\; font-weight: bold\; language: en-us\; mso-ascii-font-family: arial\; mso-fareast-font-family: +mn-ea\; mso-bidi-font-family: +mn-cs\; mso-font-kerning: 12.0pt\; mso-color-index: 1">When:<span style="mso-tab-count: 1">&nbsp\; </span><span style="mso-spacerun: yes">&nbsp\;&nbsp\; </span>SATURDAY\, MARCH 9</span></span></span></p>\n<p style="text-align: left\; margin-top: 0pt\; unicode-bidi: embed\; direction: ltr\; margin-bottom: 0pt\; vertical-align: baseline\; language: en-us">\n	<span style="font-family: arial\; color: yellow\; font-size: 20pt\; font-weight: bold\; language: en-us\; mso-ascii-font-family: arial\; mso-fareast-font-family: +mn-ea\; mso-bidi-font-family: +mn-cs\; mso-font-kerning: 12.0pt"><span style="font-style: italic\; font-family: arial\; color: black\; font-size: 23pt\; font-weight: bold\; language: en-us\; mso-ascii-font-family: arial\; mso-fareast-font-family: +mn-ea\; mso-bidi-font-family: +mn-cs\; mso-font-kerning: 12.0pt\; mso-color-index: 1"><span style="font-style: italic\; font-family: arial\; color: black\; font-size: 16pt\; font-weight: bold\; language: en-us\; mso-ascii-font-family: arial\; mso-fareast-font-family: +mn-ea\; mso-bidi-font-family: +mn-cs\; mso-font-kerning: 12.0pt\; mso-color-index: 1">Where:<span style="mso-spacerun: yes">&nbsp\;&nbsp\;&nbsp\;&nbsp\;</span><span style="font-size:16px\;">Better Business Bureau</span></span></span></span></p>\n<p style="text-align: left\; margin-top: 0pt\; unicode-bidi: embed\; direction: ltr\; margin-bottom: 0pt\; vertical-align: baseline\; language: en-us">\n	<span style="font-size:16px\;"><span style="font-family: arial\; color: yellow\; font-weight: bold\;"><span style="font-style: italic\; font-family: arial\; color: black\; font-weight: bold\;"><span style="font-style: italic\; font-family: arial\; color: black\; font-weight: bold\;"><span style="">&nbsp\; </span><span style="">&nbsp\; &nbsp\; &nbsp\; &nbsp\; &nbsp\; &nbsp\; &nbsp\; &nbsp\; &nbsp\; &nbsp\; &nbsp\;</span>502 E. Expwy 83\, Ste C</span></span></span></span></p>\n<p style="text-align: left\; margin-top: 0pt\; unicode-bidi: embed\; direction: ltr\; margin-bottom: 0pt\; vertical-align: baseline\; language: en-us">\n	<span style="font-size:16px\;"><span style="font-family: arial\; color: yellow\; font-weight: bold\;"><span style="font-style: italic\; font-family: arial\; color: black\; font-weight: bold\;"><span style="font-style: italic\; font-family: arial\; color: black\; font-weight: bold\;"><span style="">&nbsp\; </span><span style="">&nbsp\;&nbsp\; </span><span style="">&nbsp\; </span><span style="">&nbsp\; &nbsp\; &nbsp\; &nbsp\; &nbsp\; &nbsp\; &nbsp\; &nbsp\;</span>Weslaco\, TX </span></span></span></span></p>\n<p style="text-align: left\; margin-top: 0pt\; unicode-bidi: embed\; direction: ltr\; margin-bottom: 0pt\; vertical-align: baseline\; language: en-us">\n	<span style="font-family: arial\; color: yellow\; font-size: 20pt\; font-weight: bold\; language: en-us\; mso-ascii-font-family: arial\; mso-fareast-font-family: +mn-ea\; mso-bidi-font-family: +mn-cs\; mso-font-kerning: 12.0pt"><span style="font-style: italic\; font-family: arial\; color: black\; font-size: 23pt\; font-weight: bold\; language: en-us\; mso-ascii-font-family: arial\; mso-fareast-font-family: +mn-ea\; mso-bidi-font-family: +mn-cs\; mso-font-kerning: 12.0pt\; mso-color-index: 1"><span style="font-style: italic\; font-family: arial\; color: black\; font-size: 16pt\; font-weight: bold\; language: en-us\; mso-ascii-font-family: arial\; mso-fareast-font-family: +mn-ea\; mso-bidi-font-family: +mn-cs\; mso-font-kerning: 12.0pt\; mso-color-index: 1"><span style="mso-tab-count: 1">&nbsp\; </span>Time:<span style="mso-tab-count: 1">&nbsp\; </span><span style="mso-spacerun: yes">&nbsp\; </span>10 AM to 2 PM<span style="mso-tab-count: 1">&nbsp\; </span></span></span></span></p>\n<p style="text-align: left\; margin-top: 0pt\; unicode-bidi: embed\; direction: ltr\; margin-bottom: 0pt\; vertical-align: baseline\; language: en-us">\n	&nbsp\;</p>\n<p style="text-align: left\; margin-top: 0pt\; unicode-bidi: embed\; direction: ltr\; margin-bottom: 0pt\; vertical-align: baseline\; language: en-us">\n	<span style="font-family: arial\; color: yellow\; font-size: 20pt\; font-weight: bold\; language: en-us\; mso-ascii-font-family: arial\; mso-fareast-font-family: +mn-ea\; mso-bidi-font-family: +mn-cs\; mso-font-kerning: 12.0pt"><span style="font-style: italic\; font-family: arial\; color: black\; font-size: 23pt\; font-weight: bold\; language: en-us\; mso-ascii-font-family: arial\; mso-fareast-font-family: +mn-ea\; mso-bidi-font-family: +mn-cs\; mso-font-kerning: 12.0pt\; mso-color-index: 1"><span style="font-style: italic\; font-family: arial\; color: black\; font-size: 16pt\; font-weight: bold\; language: en-us\; mso-ascii-font-family: arial\; mso-fareast-font-family: +mn-ea\; mso-bidi-font-family: +mn-cs\; mso-font-kerning: 12.0pt\; mso-color-index: 1"><span style="mso-tab-count: 1">&nbsp\; </span>CALL 956-969-1804 for info</span></span></span></p>\n<p style="margin: 0in 0in 0pt\; vertical-align: baseline">\n	<br />\n	<span style="font-family: arial\; color: yellow\; font-size: 20pt\; font-weight: bold\; language: en-us\; mso-ascii-font-family: arial\; mso-fareast-font-family: +mn-ea\; mso-bidi-font-family: +mn-cs\; mso-font-kerning: 12.0pt"><span style="font-style: italic\; font-family: arial\; color: black\; font-size: 23pt\; font-weight: bold\; language: en-us\; mso-ascii-font-family: arial\; mso-fareast-font-family: +mn-ea\; mso-bidi-font-family: +mn-cs\; mso-font-kerning: 12.0pt\; mso-color-index: 1"><b><i><span style="font-family: 'arial'\, 'sans-serif'\; color: black\; font-size: 16pt\; mso-fareast-font-family: +mn-ea\; mso-bidi-font-family: +mn-cs\; mso-font-kerning: 12.0pt">Sponsored by:<br />\n	<br />\n	Better Business Bureau<br />\n	Valley Shredding Service<br />\n	US Postal Inspection Service</span></i></b></span></span></p>\n
LOCATION:Better Business Bureau\, 509 East Expressway 83\, Ste C\, Weslaco\, TX
UID:e.1244.4621
SEQUENCE:3
DTSTAMP:20260421T074702Z
URL:https://business.weslaco.com/events/details/bbb-shred-day-03-09-2013-4621
END:VEVENT

END:VCALENDAR
