BEGIN:VCALENDAR
VERSION:2.0
PRODID:-//ChamberMaster//Event Calendar 2.0//EN
METHOD:PUBLISH
X-PUBLISHED-TTL:P3D
REFRESH-INTERVAL:P3D
CALSCALE:GREGORIAN
BEGIN:VEVENT
DTSTART:20150815T150000Z
DTEND:20150815T190000Z
X-MICROSOFT-CDO-ALLDAYEVENT:FALSE
SUMMARY:Be the Match Marrow Donor Registry Drive at VNC
DESCRIPTION:Patients need you! For thousands with blood cancers like leukemia or other diseases like sickle cell anemia\, a marrow transplant is their only hope for life.  If you have diverse ancestry\, patients especially need you because they are most likely to match someone who shares their heritage.\n\nRegister to be a donor! It's quick\, non-evasive\, and most importantly\, it can save a life.  Ages 18 to 44. Free coffee and pastries to all registrants!
X-ALT-DESC;FMTTYPE=text/html:Patients need you! For thousands with blood cancers like leukemia or other diseases like sickle cell anemia\, a marrow transplant is their only hope for life. &nbsp\;If you have diverse ancestry\, patients especially need you because they are most likely to match someone who shares their heritage.<br />\nRegister to be a donor! It&#39\;s quick\, non-evasive\, and most importantly\, it can save a life. &nbsp\;Ages 18 to 44. Free coffee and pastries to all registrants!
LOCATION:Valley Nature Center 301 S. Border Weslaco\, TX
UID:e.1244.6723
SEQUENCE:3
DTSTAMP:20260423T131723Z
URL:https://business.weslaco.com/events/details/be-the-match-marrow-donor-registry-drive-at-vnc-08-15-2015-6723
END:VEVENT

END:VCALENDAR
