BEGIN:VCALENDAR
VERSION:2.0
PRODID:-//ChamberMaster//Event Calendar 2.0//EN
METHOD:PUBLISH
X-PUBLISHED-TTL:P3D
REFRESH-INTERVAL:P3D
CALSCALE:GREGORIAN
BEGIN:VEVENT
DTSTART:20180110T200000Z
DTEND:20180110T210000Z
X-MICROSOFT-CDO-ALLDAYEVENT:FALSE
SUMMARY:Beam Signing Ceremony for Weslaco UTRGV CIC
DESCRIPTION:
X-ALT-DESC;FMTTYPE=text/html:
LOCATION:Weslaco Business Visitor and Event Center 275 S. Kansas
UID:e.1244.14469
SEQUENCE:3
DTSTAMP:20260421T160338Z
URL:https://business.weslaco.com/events/details/beam-signing-ceremony-for-weslaco-utrgv-cic-14469
END:VEVENT

END:VCALENDAR
