BEGIN:VCALENDAR
VERSION:2.0
PRODID:-//ChamberMaster//Event Calendar 2.0//EN
METHOD:PUBLISH
X-PUBLISHED-TTL:P3D
REFRESH-INTERVAL:P3D
CALSCALE:GREGORIAN
BEGIN:VEVENT
DTSTART:20180702T223000Z
DTEND:20180703T003000Z
X-MICROSOFT-CDO-ALLDAYEVENT:FALSE
SUMMARY:Berry Homes Meet & Greet Mixer
DESCRIPTION:Say "hello" to the Berry Homes Team as we celebrate their 15th Anniversary in Weslaco! Enjoy appetizers\, beverages and networking. Don't forget the business cards!
X-ALT-DESC;FMTTYPE=text/html:<span>Say &quot\;hello&quot\; to the Berry Homes Team as we celebrate their 15th Anniversary in Weslaco! Enjoy appetizers\, beverages and networking. Don&#39\;t forget the business cards!</span>
LOCATION:Business Visitor & Event Center 275 S. Kansas
UID:e.1244.16918
SEQUENCE:3
DTSTAMP:20260421T041731Z
URL:https://business.weslaco.com/events/details/berry-homes-meet-greet-mixer-16918
END:VEVENT

END:VCALENDAR
