BEGIN:VCALENDAR
VERSION:2.0
PRODID:-//ChamberMaster//Event Calendar 2.0//EN
METHOD:PUBLISH
X-PUBLISHED-TTL:P3D
REFRESH-INTERVAL:P3D
CALSCALE:GREGORIAN
BEGIN:VEVENT
DTSTART:20160630T223000Z
DTEND:20160701T003000Z
X-MICROSOFT-CDO-ALLDAYEVENT:FALSE
SUMMARY:Bert Ogden 4th of July Mixer
DESCRIPTION:hosted by the La Feria Chamber of Commerce
X-ALT-DESC;FMTTYPE=text/html:hosted by the La Feria Chamber of Commerce
LOCATION:Bert Ogden Toyota of Harlingen 8721 W. Expressway 83 Harlingen\, TX
UID:e.1244.10966
SEQUENCE:3
DTSTAMP:20260422T215018Z
URL:https://business.weslaco.com/events/details/bert-ogden-4th-of-july-mixer-06-30-2016-10966
END:VEVENT

END:VCALENDAR
