BEGIN:VCALENDAR
VERSION:2.0
PRODID:-//ChamberMaster//Event Calendar 2.0//EN
METHOD:PUBLISH
X-PUBLISHED-TTL:P3D
REFRESH-INTERVAL:P3D
CALSCALE:GREGORIAN
BEGIN:VEVENT
DTSTART:20150127T140000Z
DTEND:20150127T153000Z
X-MICROSOFT-CDO-ALLDAYEVENT:FALSE
SUMMARY:Bingo at Chick-fil-A
DESCRIPTION:Bingo at Chick-fil-A Weslaco! Winners get to Spin the Wheel for a prize!
X-ALT-DESC;FMTTYPE=text/html:Bingo at Chick-fil-A Weslaco! Winners get to Spin the Wheel for a prize!
LOCATION:
UID:e.1244.6028
SEQUENCE:3
DTSTAMP:20260424T002508Z
URL:https://business.weslaco.com/events/details/bingo-at-chick-fil-a-01-27-2015-6028
END:VEVENT

END:VCALENDAR
