BEGIN:VCALENDAR
VERSION:2.0
PRODID:-//ChamberMaster//Event Calendar 2.0//EN
METHOD:PUBLISH
X-PUBLISHED-TTL:P3D
REFRESH-INTERVAL:P3D
CALSCALE:GREGORIAN
BEGIN:VEVENT
DTSTART:20160719T150000Z
DTEND:20160719T210000Z
X-MICROSOFT-CDO-ALLDAYEVENT:FALSE
SUMMARY:BioBridge Global RGV Center Grand Opening and Blood Drive
DESCRIPTION:BioBridge Global and its subsidiaries South Texas Blood & GenCure are celebrating the grand opening of the new BioBridge Global Rio Grande Valley Center.  Ribbon cutting program at 10 am.  Stop by the blood drive happening on location from 10 am to 4 pm. Help save a life!
X-ALT-DESC;FMTTYPE=text/html:BioBridge Global and its subsidiaries South Texas Blood &amp\; GenCure are celebrating the grand opening of the new BioBridge Global Rio Grande Valley Center. &nbsp\;Ribbon cutting program at 10 am. &nbsp\;Stop by the blood drive happening on location from 10 am to 4 pm. Help save a life!&nbsp\;
LOCATION:1221 E. 10th St\, Ste. 103 Weslaco\, TX
UID:e.1244.10988
SEQUENCE:3
DTSTAMP:20260422T202208Z
URL:https://business.weslaco.com/events/details/biobridge-global-rgv-center-grand-opening-and-blood-drive-07-19-2016-10988
END:VEVENT

END:VCALENDAR
