BEGIN:VCALENDAR
VERSION:2.0
PRODID:-//ChamberMaster//Event Calendar 2.0//EN
METHOD:PUBLISH
X-PUBLISHED-TTL:P3D
REFRESH-INTERVAL:P3D
CALSCALE:GREGORIAN
BEGIN:VEVENT
DTSTART:20190314T110000Z
DTEND:20190314T180000Z
X-MICROSOFT-CDO-ALLDAYEVENT:FALSE
SUMMARY:Bird Banding with Mark Conway
DESCRIPTION:Our birding program leaves the Park itself in a 15-passenger van\, with a birding guide\, a driver\, and the pleasure of birding the Valley.\n\n\n\nBird-banding at Las Palomas Wildlife Refuge's Arroyo Unit will be a breath-taking experience with the beautiful Valley specialty birds *IN HAND* and *SO CLOSE!* Be sure to bring your cameras if you have them. No flash please. Please also bring your own binoculars\, snacks\, sack lunch\, field guides and other birding gear. Designed for birders of all levels\, this trip will be easily completed by the average person\, although there will be some hiking. Remember that times are approximate although every effort will be made to be on time.\n\n\n\nYour spot is not assured until you have paid. We are limited to ten participants\, $25 per person\, payable with credit card only\, and no snacks or lunch provided.\n\n\n\nMeet in the Parking Lot at Estero. The van will leave at 6am. This trip has always been great fun over the years!
X-ALT-DESC;FMTTYPE=text/html:<span>Our birding program leaves the Park itself in a 15-passenger van\, with a birding guide\, a driver\, and the pleasure of birding the Valley.<br />\n<br />\nBird-banding at Las Palomas Wildlife Refuge&#39\;s Arroyo Unit will be a breath-taking experience with the beautiful Valley specialty birds *IN HAND* and *SO CLOSE!* Be sure to bring your cameras if you have them. No flash please. Please also bring your own binoculars\, snacks\, sack lunch\, field guides and other birding gear. Designed for birders of all levels\, this trip will be easily completed by the average person\, although there will be some hiking. Remember that times are approximate although every effort will be made to be on time.<br />\n<br />\nYour spot is not assured until you have paid. We are limited to ten participants\, $25 per person\, payable with credit card only\, and no snacks or lunch provided.<br />\n<br />\nMeet in the Parking Lot at Estero. The van will leave at 6am. This trip has always been great fun over the years!</span>
LOCATION:Estero Llano Grande State Park 154 Lakeview Dr Ste A\, Weslaco\, Texas 78596
UID:e.1244.17913
SEQUENCE:3
DTSTAMP:20260420T143830Z
URL:https://business.weslaco.com/events/details/bird-banding-with-mark-conway-17913
END:VEVENT

END:VCALENDAR
