BEGIN:VCALENDAR
VERSION:2.0
PRODID:-//ChamberMaster//Event Calendar 2.0//EN
METHOD:PUBLISH
X-PUBLISHED-TTL:P3D
REFRESH-INTERVAL:P3D
CALSCALE:GREGORIAN
BEGIN:VEVENT
DTSTART:20171021T133000Z
DTEND:20171021T153000Z
X-MICROSOFT-CDO-ALLDAYEVENT:FALSE
SUMMARY:Bird Walk at Estero Llano Grande
DESCRIPTION:For more info\, call 565-3919
X-ALT-DESC;FMTTYPE=text/html:For more info\, call 565-3919
LOCATION:3301 S. International Weslaco\, TX
UID:e.1244.18555
SEQUENCE:3
DTSTAMP:20260421T190101Z
URL:https://business.weslaco.com/events/details/bird-walk-at-estero-llano-grande-10-21-2017-18555
END:VEVENT

END:VCALENDAR
