BEGIN:VCALENDAR
VERSION:2.0
PRODID:-//ChamberMaster//Event Calendar 2.0//EN
METHOD:PUBLISH
X-PUBLISHED-TTL:P3D
REFRESH-INTERVAL:P3D
CALSCALE:GREGORIAN
BEGIN:VEVENT
DTSTART:20181124T143000Z
DTEND:20181124T163000Z
X-MICROSOFT-CDO-ALLDAYEVENT:FALSE
SUMMARY:Bird Walk at Estero Llano Grande
DESCRIPTION:For more info\, call 565-3919
X-ALT-DESC;FMTTYPE=text/html:For more info\, call 565-3919
LOCATION:3301 S. International Weslaco\, TX
UID:e.1244.18612
SEQUENCE:3
DTSTAMP:20260420T230725Z
URL:https://business.weslaco.com/events/details/bird-walk-at-estero-llano-grande-11-24-2018-18612
END:VEVENT

END:VCALENDAR
