BEGIN:VCALENDAR
VERSION:2.0
PRODID:-//ChamberMaster//Event Calendar 2.0//EN
METHOD:PUBLISH
X-PUBLISHED-TTL:P3D
REFRESH-INTERVAL:P3D
CALSCALE:GREGORIAN
BEGIN:VEVENT
DTSTART:20160612T133000Z
DTEND:20160613T033000Z
X-MICROSOFT-CDO-ALLDAYEVENT:FALSE
SUMMARY:Bird Walks at Estero Llano Grande
DESCRIPTION:Come learn why so many of your friends and neighbors are interested in the birds of the Rio Grande Valley. Let us answer your questions and then show you\, on a walking tour\, why people are so fascinated with the birds we have. For more information call 956-565-3919.
X-ALT-DESC;FMTTYPE=text/html:<p class="MsoNormal" style="margin: 0in 0in 10pt"><span style="font-family:arial\;">Come learn why so many of your friends and neighbors are interested in the birds of the Rio Grande Valley. Let us answer your questions and then show you\, on a walking tour\, why people are so fascinated with the birds we have. For more information call 956-565-3919.</span></p>\n
LOCATION:3301 S International Blvd Weslaco\, Texas 78596
UID:e.1244.6461
SEQUENCE:3
DTSTAMP:20260422T214820Z
URL:https://business.weslaco.com/events/details/bird-walks-at-estero-llano-grande-06-12-2016-6461
END:VEVENT

END:VCALENDAR
