BEGIN:VCALENDAR
VERSION:2.0
PRODID:-//ChamberMaster//Event Calendar 2.0//EN
METHOD:PUBLISH
X-PUBLISHED-TTL:P3D
REFRESH-INTERVAL:P3D
CALSCALE:GREGORIAN
BEGIN:VEVENT
DTSTART:20161216T143000Z
DTEND:20161216T160000Z
X-MICROSOFT-CDO-ALLDAYEVENT:FALSE
SUMMARY:Bird Walks with Ernest at Frontera Audubon
DESCRIPTION:Join an experienced naturalist for a walk through our thicket. We'll focus on birds\, but if something else cool catches our eye\, we'll check it out too! Half of the species found in the entire United States have been spotted here in the Valley! Rarities in recent years have included Blue Bunting\, Crimson-collared Grosbeak\, and more! \n\n\n\nFridays (starting October 14\, 2016)\n\n\n\n$5 for non-members (price of admission) and FREE for members
X-ALT-DESC;FMTTYPE=text/html:<span style="font-family:arial\;"><span style="font-size:12px\;"><span style="color: rgb(75\, 79\, 86)\;">Join an experienced naturalist for a walk through our thicket. We'll focus on birds\, but if something else cool catches our eye\, we'll check it out too! Half of the species found in the entire United States have been spotted here in the Valley! Rarities in recent years have included Blue Bunting\, Crimson-collared Grosbeak\, and more!&nbsp\;</span><br style="color: rgb(75\, 79\, 86)\; font-family: helvetica\, arial\, sans-serif\; font-size: 14px\;">\n<br style="color: rgb(75\, 79\, 86)\; font-family: helvetica\, arial\, sans-serif\; font-size: 14px\;">\n<span style="color: rgb(75\, 79\, 86)\;">Fridays (starting October 14\, 2016)</span><br style="color: rgb(75\, 79\, 86)\; font-family: helvetica\, arial\, sans-serif\; font-size: 14px\;">\n<br style="color: rgb(75\, 79\, 86)\; font-family: helvetica\, arial\, sans-serif\; font-size: 14px\;">\n<span style="color: rgb(75\, 79\, 86)\;">$5 for non-members (price of admission) and FREE for members</span></span></span>
LOCATION:Frontera Audubon 1101 S. Texas
UID:e.1244.11046
SEQUENCE:3
DTSTAMP:20260422T115426Z
URL:https://business.weslaco.com/events/details/bird-walks-with-ernest-at-frontera-audubon-12-16-2016-11046
END:VEVENT

END:VCALENDAR
