BEGIN:VCALENDAR
VERSION:2.0
PRODID:-//ChamberMaster//Event Calendar 2.0//EN
METHOD:PUBLISH
X-PUBLISHED-TTL:P3D
REFRESH-INTERVAL:P3D
CALSCALE:GREGORIAN
BEGIN:VEVENT
DTSTART:20190202T130000Z
DTEND:20190203T010000Z
X-MICROSOFT-CDO-ALLDAYEVENT:FALSE
SUMMARY:Birdathon 2019
DESCRIPTION:Teams are now forming for this years Birdathon event\, a fun day of birding to benefit Frontera Audubon. Those interested in spotting birds across the Rio Grande Valley can do so while raising money to help protect birds and their habitat.\n\n\n\nBirdathon\, held on Saturday\, February 2nd\, 2019 from Sunrise to Sunset\, challenges birders and nature enthusiasts to trek across the Rio Grande Valley to find the greatest number of bird species in a single day. Like a walkathon\, Birdathon participants collect donation pledges from friends and family members. Donations can be a flat amount or pegged to the number of bird species spotted by participating teams. Pledges can run from 10 to $1 a species\, for example.\n\n\n\nBirders of all levels are welcome to participate\, from children to high school students to more seasoned groups. More than anything\, Birdathon offers an opportunity to mingle with like-minded\, experienced individuals and raise money for a worthy cause.\n\n\n\nStop in to Frontera's Visitor's Center at 1101 S Texas Blvd. to pick up a Birdathon packet. For further information\, or to join a team\, call Chris at 956-968-3275 or email FronteraAudubon@Yahoo.com
X-ALT-DESC;FMTTYPE=text/html:<span>Teams are now forming for this years Birdathon event\, a fun day of birding to benefit Frontera Audubon. Those interested in spotting birds across the Rio Grande Valley can do so while raising money to help protect birds and their habitat.<br />\n<br />\nBirdathon\, held on Saturday\, February 2nd\, 2019 from Sunrise to Sunset\, challenges birders and nature enthusiasts to trek across the Rio Grande Valley to find the greatest number of bird species in a single day. Like a walkathon\, Birdathon participants collect donation pledges from friends and family members. Donations can be a flat amount or pegged to the number of bird species spotted by participating teams. Pledges can run from 10 to $1 a species\, for example.<br />\n<br />\nBirders of all levels are welcome to participate\, from children to high school students to more seasoned groups. More than anything\, Birdathon offers an opportunity to mingle with like-minded\, experienced individuals and raise money for a worthy cause.<br />\n<br />\nStop in to Frontera&#39\;s Visitor&#39\;s Center at 1101 S Texas Blvd. to pick up a Birdathon packet. For further information\, or to join a team\, call Chris at 956-968-3275 or email FronteraAudubon@Yahoo.com</span>
LOCATION:Frontera Audubon 1101 S. Texas Blvd.\, Weslaco\, Texas 78596
UID:e.1244.17081
SEQUENCE:3
DTSTAMP:20260420T175229Z
URL:https://business.weslaco.com/events/details/birdathon-2019-17081
END:VEVENT

END:VCALENDAR
