BEGIN:VCALENDAR
VERSION:2.0
PRODID:-//ChamberMaster//Event Calendar 2.0//EN
METHOD:PUBLISH
X-PUBLISHED-TTL:P3D
REFRESH-INTERVAL:P3D
CALSCALE:GREGORIAN
BEGIN:VEVENT
DTSTART:20150613T150000Z
DTEND:20150613T170000Z
X-MICROSOFT-CDO-ALLDAYEVENT:FALSE
SUMMARY:Birding 101 at Frontera Audubon
DESCRIPTION:Learn the basics of birding with Raul Garza\, Park Ranger for U.S. Fish and Wildlife Service. He will cover bird identification basics such as habitat for birds\, backyard and local birds\, and birding by ear. This beginner workshop is open to adults\, teens\, and children--anyone interested in learning more about birding in the Rio Grande Valley. A walk in the Frontera Thicket will take place after the presentation. Fee is $5 for adults and teens and $3 for children 12 and under. Call 956-968-3275 for further information.
X-ALT-DESC;FMTTYPE=text/html:<p>Learn the basics of birding with Raul Garza\, Park Ranger for U.S. Fish and Wildlife Service. He will cover bird identification basics such as habitat for birds\, backyard and local birds\, and birding by ear. This beginner workshop is open to adults\, teens\, and children--anyone interested in learning more about birding in the Rio Grande Valley. A walk in the Frontera Thicket will take place after the presentation. Fee is $5 for adults and teens and $3 for children 12 and under. Call 956-968-3275 for further information.</p>\n
LOCATION:Frontera Audubon 1101 S. Texas
UID:e.1244.6681
SEQUENCE:3
DTSTAMP:20260423T175023Z
URL:https://business.weslaco.com/events/details/birding-101-at-frontera-audubon-06-13-2015-6681
END:VEVENT

END:VCALENDAR
