BEGIN:VCALENDAR
VERSION:2.0
PRODID:-//ChamberMaster//Event Calendar 2.0//EN
METHOD:PUBLISH
X-PUBLISHED-TTL:P3D
REFRESH-INTERVAL:P3D
CALSCALE:GREGORIAN
BEGIN:VEVENT
DTSTART:20150718T150000Z
DTEND:20150718T170000Z
X-MICROSOFT-CDO-ALLDAYEVENT:FALSE
SUMMARY:Birding 101 at Frontera Audubon
DESCRIPTION:
X-ALT-DESC;FMTTYPE=text/html:
LOCATION:Frontera Audubon 1101 S. Texas
UID:e.1244.6692
SEQUENCE:3
DTSTAMP:20260423T162218Z
URL:https://business.weslaco.com/events/details/birding-101-at-frontera-audubon-07-18-2015-6692
END:VEVENT

END:VCALENDAR
