BEGIN:VCALENDAR
VERSION:2.0
PRODID:-//ChamberMaster//Event Calendar 2.0//EN
METHOD:PUBLISH
X-PUBLISHED-TTL:P3D
REFRESH-INTERVAL:P3D
CALSCALE:GREGORIAN
BEGIN:VEVENT
DTSTART:20190309T193000Z
DTEND:20190309T213000Z
X-MICROSOFT-CDO-ALLDAYEVENT:FALSE
SUMMARY:Birding Basics
DESCRIPTION:Basic techniques from field guides to binoculars\, especially for newbies!\n\n\n\nJoin us in a relaxed-pace class for all ages about birding\, from identifying birds\, selecting field guides to understanding the numbers on binoculars. Bring your own binoculars and field guides if you have them\, but if not they will be provided for you. Meet on the Deck outside the Park Store. Free with park entry ($5 adults\, children 12-and-under free).
X-ALT-DESC;FMTTYPE=text/html:<span>Basic techniques from field guides to binoculars\, especially for newbies!<br />\n<br />\nJoin us in a relaxed-pace class for all ages about birding\, from identifying birds\, selecting field guides to understanding the numbers on binoculars. Bring your own binoculars and field guides if you have them\, but if not they will be provided for you. Meet on the Deck outside the Park Store. Free with park entry ($5 adults\, children 12-and-under free).</span>
LOCATION:Estero Llano Grande State Park 154 Lakeview Dr Ste A\, Weslaco\, Texas 78596
UID:e.1244.17911
SEQUENCE:3
DTSTAMP:20260420T143724Z
URL:https://business.weslaco.com/events/details/birding-basics-17911
END:VEVENT

END:VCALENDAR
