BEGIN:VCALENDAR
VERSION:2.0
PRODID:-//ChamberMaster//Event Calendar 2.0//EN
METHOD:PUBLISH
X-PUBLISHED-TTL:P3D
REFRESH-INTERVAL:P3D
CALSCALE:GREGORIAN
BEGIN:VEVENT
DTSTART:20200328T183000Z
DTEND:20200328T200000Z
X-MICROSOFT-CDO-ALLDAYEVENT:FALSE
SUMMARY:Birding Basics at Estero Llano Grande State Park
DESCRIPTION:
X-ALT-DESC;FMTTYPE=text/html:
LOCATION:Estero Llano Grande State Park 3301 S. International Blvd.
UID:e.1244.19037
SEQUENCE:3
DTSTAMP:20260419T184350Z
URL:https://business.weslaco.com/events/details/birding-basics-at-estero-llano-grande-state-park-03-28-2020-19037
END:VEVENT

END:VCALENDAR
