BEGIN:VCALENDAR
VERSION:2.0
PRODID:-//ChamberMaster//Event Calendar 2.0//EN
METHOD:PUBLISH
X-PUBLISHED-TTL:P3D
REFRESH-INTERVAL:P3D
CALSCALE:GREGORIAN
BEGIN:VEVENT
DTSTART:20160223T143000Z
DTEND:20160223T163000Z
X-MICROSOFT-CDO-ALLDAYEVENT:FALSE
SUMMARY:Birding from the Deck with Huck
DESCRIPTION:
X-ALT-DESC;FMTTYPE=text/html:
LOCATION:Estero Llano Grande State Park 3301 S. International Blvd\, Weslaco
UID:e.1244.10529
SEQUENCE:3
DTSTAMP:20260423T035438Z
URL:https://business.weslaco.com/events/details/birding-from-the-deck-with-huck-02-23-2016-10529
END:VEVENT

END:VCALENDAR
