BEGIN:VCALENDAR
VERSION:2.0
PRODID:-//ChamberMaster//Event Calendar 2.0//EN
METHOD:PUBLISH
X-PUBLISHED-TTL:P3D
REFRESH-INTERVAL:P3D
CALSCALE:GREGORIAN
BEGIN:VEVENT
DTSTART:20160224T000000Z
DTEND:20160224T020000Z
X-MICROSOFT-CDO-ALLDAYEVENT:FALSE
SUMMARY:Birding on a Budget: Alaskan Adventures
DESCRIPTION:Michael Delesantro and Renee Rubin will share their recent Birding on a Budget adventure in Alaska during a presentation at Frontera Audubon at 6 p.m. on Tuesday\, Feb. 23rd. The presentation is free for Frontera Audubon members and $3 for non-members. For more info\, please call 956-968-3275.\n\n \n\nThe photographic presentation will feature many specialty birds and other wildlife seen during their recent two-month summer trek. Delesantro and Rubin have traveled extensively across the U.S. on a shoestring budget.\n\n \n\nThe couple have lived in Weslaco for 21 years. Both educators\, Delesantro and Rubin have been active in the community\, promoting conservation issues and environmental education. Together\, they are passionate about nature travel\, and especially\, birding on a budget.
X-ALT-DESC;FMTTYPE=text/html:Michael Delesantro and Renee Rubin will share their recent Birding on a Budget adventure in Alaska during a presentation at Frontera Audubon at 6 p.m. on Tuesday\, Feb. 23rd. The presentation is free for Frontera Audubon members and $3 for non-members. For more info\, please call 956-968-3275.<br />\n&nbsp\;<br />\nThe photographic presentation will feature many specialty birds and other wildlife seen during their recent two-month summer trek. Delesantro and Rubin have traveled extensively across the U.S. on a shoestring budget.<br />\n&nbsp\;<br />\nThe couple have lived in Weslaco for 21 years. Both educators\, Delesantro and Rubin have been active in the community\, promoting conservation issues and environmental education. Together\, they are passionate about nature travel\, and especially\, birding on a budget.&nbsp\;<br />\n&nbsp\;
LOCATION:Frontera Audubon 1101 S. Texas\, Weslaco
UID:e.1244.9128
SEQUENCE:3
DTSTAMP:20260423T040336Z
URL:https://business.weslaco.com/events/details/birding-on-a-budget-alaskan-adventures-02-23-2016-9128
END:VEVENT

END:VCALENDAR
