BEGIN:VCALENDAR
VERSION:2.0
PRODID:-//ChamberMaster//Event Calendar 2.0//EN
METHOD:PUBLISH
X-PUBLISHED-TTL:P3D
REFRESH-INTERVAL:P3D
CALSCALE:GREGORIAN
BEGIN:VEVENT
DTSTART:20150221T160000Z
DTEND:20150221T170000Z
X-MICROSOFT-CDO-ALLDAYEVENT:FALSE
SUMMARY:Bite by Bite - Discover Cooking Fresh in the garden with Ariel King
DESCRIPTION:Bite by Bite - Discover Cooking Fresh - Join us for a Bite by Bite journey through Ariel?s garden. Ariel King and fresh produce (from her own extensive garden).  She will make food and have it for the guests. Bring a friend\, start a healthy tradition. Valley Nature Center's trails are wheelchair and scooter friendly. Bring your camera\, Bring a friend\, Make a memory. See you there. Like us on FaceBook to keep up on the VNC news!
X-ALT-DESC;FMTTYPE=text/html:Bite by Bite - Discover Cooking Fresh -&nbsp\;Join us for a Bite by Bite journey through Ariel?s garden. Ariel King and fresh produce (from her own extensive garden). &nbsp\;She will make food and have it for the guests. Bring a friend\, start a healthy tradition. Valley Nature Center&#39\;s trails are wheelchair and scooter friendly. Bring your camera\, Bring a friend\, Make a memory. See you there. Like us on FaceBook to keep up on the VNC news!
LOCATION:Valley Nature Center 301 S. Border Avenue
UID:e.1244.6037
SEQUENCE:3
DTSTAMP:20260423T224904Z
URL:https://business.weslaco.com/events/details/bite-by-bite-discover-cooking-fresh-in-the-garden-with-ariel-king-02-21-2015-6037
END:VEVENT

END:VCALENDAR
