BEGIN:VCALENDAR
VERSION:2.0
PRODID:-//ChamberMaster//Event Calendar 2.0//EN
METHOD:PUBLISH
X-PUBLISHED-TTL:P3D
REFRESH-INTERVAL:P3D
CALSCALE:GREGORIAN
BEGIN:VEVENT
DTSTART:20150822T153000Z
DTEND:20150822T190000Z
X-MICROSOFT-CDO-ALLDAYEVENT:FALSE
SUMMARY:Blood Drive at Verizon Wireless
DESCRIPTION:Verizon Wireless will be raffling out a smartphone to all blood drive participant donors.  United Blood Services will enter all blood donor participants in a raffle where they have a chance to win a 2015 Nissan Versa.
X-ALT-DESC;FMTTYPE=text/html:<a name="_MailAutoSig">Verizon Wireless will be raffling out a smartphone to all blood drive participant donors. &nbsp\;United Blood Services will enter all blood donor participants in a raffle where they have a chance to win a 2015 Nissan Versa.&nbsp\;</a>
LOCATION:Verizon Wireless Mobile Destination 1025 Texas Blvd\, Ste. 21D Weslaco\, TX
UID:e.1244.6722
SEQUENCE:3
DTSTAMP:20260423T131354Z
URL:https://business.weslaco.com/events/details/blood-drive-at-verizon-wireless-08-22-2015-6722
END:VEVENT

END:VCALENDAR
