BEGIN:VCALENDAR
VERSION:2.0
PRODID:-//ChamberMaster//Event Calendar 2.0//EN
METHOD:PUBLISH
X-PUBLISHED-TTL:P3D
REFRESH-INTERVAL:P3D
CALSCALE:GREGORIAN
BEGIN:VEVENT
DTSTART:20161103T230000Z
DTEND:20161104T000000Z
X-MICROSOFT-CDO-ALLDAYEVENT:FALSE
SUMMARY:Book Launch at Library - Maria Misses Her Hero by Mario Ybarra Jr.
DESCRIPTION:Book Launch! A tribute to the unsung heroes...Maria Misses Her Hero written by Mario Ybarra Jr. and Illustrated by Francesca Da Sacco. Come meet the author\, book reading\, entertainment\, and book signing.
X-ALT-DESC;FMTTYPE=text/html:Book Launch! A tribute to the unsung heroes...<u>Maria Misses Her Hero</u> written by Mario Ybarra Jr. and Illustrated by Francesca Da Sacco. Come meet the author\, book reading\, entertainment\, and book signing.&nbsp\;
LOCATION:Mayor Eugene A. Braught Memorial Theater (Mayor Joe V. Sanchez Public Library) 525 S. Kansas Ave. Weslaco\, TX 78596
UID:e.1244.11034
SEQUENCE:3
DTSTAMP:20260422T134637Z
URL:https://business.weslaco.com/events/details/book-launch-at-library-maria-misses-her-hero-by-mario-ybarra-jr-11034
END:VEVENT

END:VCALENDAR
