BEGIN:VCALENDAR
VERSION:2.0
PRODID:-//ChamberMaster//Event Calendar 2.0//EN
METHOD:PUBLISH
X-PUBLISHED-TTL:P3D
REFRESH-INTERVAL:P3D
CALSCALE:GREGORIAN
BEGIN:VEVENT
DTSTART:20161117T163000Z
DTEND:20161117T170000Z
X-MICROSOFT-CDO-ALLDAYEVENT:FALSE
SUMMARY:Boots n Jeans 40th Anniversary Celebration
DESCRIPTION:Celebrating Boots n Jeans 40th Anniversary!
X-ALT-DESC;FMTTYPE=text/html:Celebrating Boots n Jeans 40th Anniversary!
LOCATION:2005 W. U.S. Exp. 83 Weslaco\, TX
UID:e.1244.11404
SEQUENCE:3
DTSTAMP:20260422T134029Z
URL:https://business.weslaco.com/events/details/boots-n-jeans-40th-anniversary-celebration-11404
END:VEVENT

END:VCALENDAR
