BEGIN:VCALENDAR
VERSION:2.0
PRODID:-//ChamberMaster//Event Calendar 2.0//EN
METHOD:PUBLISH
X-PUBLISHED-TTL:P3D
REFRESH-INTERVAL:P3D
CALSCALE:GREGORIAN
BEGIN:VEVENT
DTSTART:20150528T223000Z
DTEND:20150529T000000Z
X-MICROSOFT-CDO-ALLDAYEVENT:FALSE
SUMMARY:Borderland Hardware After Hours Mixer
DESCRIPTION:Join us for an After Hours Mixer at Borderland Hardware! Enjoy a 25% discount on all the items in your ACE Hardware bags\, to be provided.
X-ALT-DESC;FMTTYPE=text/html:Join us for an After Hours Mixer at Borderland Hardware! Enjoy a 25% discount on all the items in your ACE Hardware bags\, to be provided. &nbsp\;
LOCATION:Borderland Hardware 300 S. Missouri
UID:e.1244.6272
SEQUENCE:3
DTSTAMP:20260423T180519Z
URL:https://business.weslaco.com/events/details/borderland-hardware-after-hours-mixer-05-28-2015-6272
END:VEVENT

END:VCALENDAR
