BEGIN:VCALENDAR
VERSION:2.0
PRODID:-//ChamberMaster//Event Calendar 2.0//EN
METHOD:PUBLISH
X-PUBLISHED-TTL:P3D
REFRESH-INTERVAL:P3D
CALSCALE:GREGORIAN
BEGIN:VEVENT
DTSTART:20160622T150000Z
DTEND:20160622T160000Z
X-MICROSOFT-CDO-ALLDAYEVENT:FALSE
SUMMARY:Boys and Girls Club of Weslaco Ribbon Cutting
DESCRIPTION:
X-ALT-DESC;FMTTYPE=text/html:
LOCATION:300 N. Airport (inside Mayor Pablo G. Pena City Park)
UID:e.1244.10977
SEQUENCE:3
DTSTAMP:20260422T215707Z
URL:https://business.weslaco.com/events/details/boys-and-girls-club-of-weslaco-ribbon-cutting-06-22-2016-10977
END:VEVENT

END:VCALENDAR
