BEGIN:VCALENDAR
VERSION:2.0
PRODID:-//ChamberMaster//Event Calendar 2.0//EN
METHOD:PUBLISH
X-PUBLISHED-TTL:P3D
REFRESH-INTERVAL:P3D
CALSCALE:GREGORIAN
BEGIN:VEVENT
DTSTART:20191228T000000Z
DTEND:20191228T033000Z
X-MICROSOFT-CDO-ALLDAYEVENT:FALSE
SUMMARY:Brandon "Heartbreaker" Figueroa's Christmas Posada
DESCRIPTION:Brandon "Heartbreaker" Figueroa is hosting a Christmas Posada and toy giveaway.
X-ALT-DESC;FMTTYPE=text/html:Brandon &quot\;Heartbreaker&quot\; Figueroa is hosting a Christmas Posada and toy giveaway.
LOCATION:Weslaco City Hall 255 S. Kansas
UID:e.1244.18846
SEQUENCE:3
DTSTAMP:20260419T234445Z
URL:https://business.weslaco.com/events/details/brandon-heartbreaker-figueroa-s-christmas-posada-18846
END:VEVENT

END:VCALENDAR
