BEGIN:VCALENDAR
VERSION:2.0
PRODID:-//ChamberMaster//Event Calendar 2.0//EN
METHOD:PUBLISH
X-PUBLISHED-TTL:P3D
REFRESH-INTERVAL:P3D
CALSCALE:GREGORIAN
BEGIN:VEVENT
DTSTART:20131002T130000Z
DTEND:20131002T180000Z
X-MICROSOFT-CDO-ALLDAYEVENT:FALSE
SUMMARY:Bras Ending Breast Cancer Design Voting
DESCRIPTION:Bra design entries from the Bras Ending Breast Cancer event will be on display for voting. \n\n	$1 per Best in Show \n\n	$5 per ticket D through G\n\n	$20 for 20 Best in Show tickets + 1 ticket each for D through G\n\n	\n\n	Categories and prizes include:\n\n	A. Best in Show - $100\n\n	B. Best in Show 1st Runner Up - $50\n\n	C. Best in Show 2nd Runner Up - $25\n\n	D. Most Creative - $25\n\n	E. Prettiest - $25\n\n	F. Funniest - $25\n\n	G. Best Cancer Awareness Message - $25\n\n	H. Best Cancer Survivor Entry - $25\n\n	I.  Best Knapp Departmental Entry - $25
X-ALT-DESC;FMTTYPE=text/html:<p>\n	Bra design entries from the Bras Ending Breast Cancer event will be on display for voting.&nbsp\;</p>\n<p>\n	$1 per Best in Show&nbsp\;<br />\n	$5 per ticket D through G<br />\n	$20 for 20 Best in Show tickets + 1 ticket each for D through G<br />\n	<br />\n	Categories and prizes include:<br />\n	A. Best in Show - $100<br />\n	B. Best in Show 1st Runner Up - $50<br />\n	C. Best in Show 2nd Runner Up - $25<br />\n	D. Most Creative - $25<br />\n	E. Prettiest - $25<br />\n	F. Funniest - $25<br />\n	G. Best Cancer Awareness Message - $25<br />\n	H. Best Cancer Survivor Entry - $25<br />\n	I. &nbsp\;Best Knapp Departmental Entry - $25</p>\n
LOCATION:Knapp Medical Conference Center
UID:e.1244.4770
SEQUENCE:3
DTSTAMP:20260425T023322Z
URL:https://business.weslaco.com/events/details/bras-ending-breast-cancer-design-voting-10-02-2013-4770
END:VEVENT

END:VCALENDAR
